




BEGIN:VCALENDAR
VERSION:2.0
PRODID:-//wp-events-plugin.com//7.2.2.1//EN
TZID:Europe/Berlin
X-WR-TIMEZONE:Europe/Berlin
BEGIN:VEVENT
UID:7@elternverein-hard.at
DTSTART;TZID=Europe/Berlin:20170607T170000
DTEND;TZID=Europe/Berlin:20170607T190000
DTSTAMP:20170522T100441Z
URL:https://elternverein-hard.at/events/stand-up-paddling-sup-schnupperkur
 s-mittelschule/
SUMMARY:Stand Up Paddling (SUP) - Schnupperkurs Mittelschule
DESCRIPTION:Entdecken\, erkunden\, erleben. Auf der geführten Tour begebt 
 ihr euch mit dem SUP-Board auf eine Entdeckungsreise entlang des Bodensee 
 Ufers und erkundet die vielfältige Natur und Landschaft. Erfahrene Guides
  wiederholen mit euch zu Beginn alle Grundtechniken und dann geht's los!\n
 \nGute Schwimmkenntnisse sind Voraussetzung!\n\nSUP-Board &amp\; Paddel\, 
 Schwimmwesten\, ev. Neoprenanzug und sanitäre Anlagen (Duschen\, Umkleide
 n\, WC) sind vorhanden.\n\nAusweichtermin: 14.6.2017\n\nKursbeitrag\n€ 2
 5 (€ 5 Ermäßigung für EV-Mitglieder)\nder Elternverein kassiert vor
  Ort\n\nAnmeldungen\nbitte unter Angabe von Name\, Geburtsdatum\, Telefonn
 ummer und Schule\nper E-Mail oder SMS
CATEGORIES:Kurs / Workshop,Mittelschule
LOCATION:Surfmax Hard\, Binnenbecken\, Hard\, 6971\, Österreich
GEO:47.492939066736724;9.67908695612789
X-APPLE-STRUCTURED-LOCATION;VALUE=URI;X-ADDRESS=Binnenbecken\, Hard\, 6971\
 , Österreich;X-APPLE-RADIUS=100;X-TITLE=Surfmax Hard:geo:47.4929390667367
 24,9.67908695612789
END:VEVENT
BEGIN:VTIMEZONE
TZID:Europe/Berlin
X-LIC-LOCATION:Europe/Berlin
BEGIN:DAYLIGHT
DTSTART:20170326T030000
TZOFFSETFROM:+0100
TZOFFSETTO:+0200
TZNAME:CEST
END:DAYLIGHT
END:VTIMEZONE
END:VCALENDAR