




BEGIN:VCALENDAR
VERSION:2.0
PRODID:-//wp-events-plugin.com//7.2.2.1//EN
TZID:Europe/Berlin
X-WR-TIMEZONE:Europe/Berlin
BEGIN:VEVENT
UID:121@elternverein-hard.at
DTSTART;TZID=Europe/Berlin:20180918T190000
DTEND;TZID=Europe/Berlin:20180918T203000
DTSTAMP:20180917T075741Z
URL:https://elternverein-hard.at/events/elternabend-der-1-klassen-der-vs-m
 wbg/
SUMMARY:Elternabend der 1. Klassen der MS Mwbg
DESCRIPTION:
CATEGORIES:Elternabend/Klassenforum
LOCATION:Mittelschule Mittelweiherburg\, Flurstraße 12\, Hard\, Österreic
 h
GEO:47.4827131;9.698392499999954
X-APPLE-STRUCTURED-LOCATION;VALUE=URI;X-ADDRESS=Flurstraße 12\, Hard\, Ös
 terreich;X-APPLE-RADIUS=100;X-TITLE=Mittelschule Mittelweiherburg:geo:47.4
 827131,9.698392499999954
END:VEVENT
BEGIN:VTIMEZONE
TZID:Europe/Berlin
X-LIC-LOCATION:Europe/Berlin
BEGIN:DAYLIGHT
DTSTART:20180325T030000
TZOFFSETFROM:+0100
TZOFFSETTO:+0200
TZNAME:CEST
END:DAYLIGHT
END:VTIMEZONE
END:VCALENDAR