




BEGIN:VCALENDAR
VERSION:2.0
PRODID:-//wp-events-plugin.com//7.2.2.1//EN
TZID:Europe/Berlin
X-WR-TIMEZONE:Europe/Berlin
BEGIN:VEVENT
UID:122@elternverein-hard.at
DTSTART;TZID=Europe/Berlin:20180917T190000
DTEND;TZID=Europe/Berlin:20180918T203000
DTSTAMP:20180917T075723Z
URL:https://elternverein-hard.at/events/elternabend-der-1-klassen-der-vs-m
 wbg-2/
SUMMARY:Elternabend der 1. Klassen der VS Mwbg
DESCRIPTION:
CATEGORIES:Elternabend/Klassenforum
LOCATION:Volksschule Mittelweiherburg\, Flurstraße 10\, Hard\, Österreich
GEO:47.4826826;9.697172200000068
X-APPLE-STRUCTURED-LOCATION;VALUE=URI;X-ADDRESS=Flurstraße 10\, Hard\, Ös
 terreich;X-APPLE-RADIUS=100;X-TITLE=Volksschule Mittelweiherburg:geo:47.48
 26826,9.697172200000068
END:VEVENT
BEGIN:VTIMEZONE
TZID:Europe/Berlin
X-LIC-LOCATION:Europe/Berlin
BEGIN:DAYLIGHT
DTSTART:20180325T030000
TZOFFSETFROM:+0100
TZOFFSETTO:+0200
TZNAME:CEST
END:DAYLIGHT
END:VTIMEZONE
END:VCALENDAR